BEGIN:VCALENDAR
VERSION:2.0
PRODID:icalendar-ruby
CALSCALE:GREGORIAN
METHOD:PUBLISH
BEGIN:VEVENT
DTSTAMP:20260420T082352Z
UID:42-1151291@shadesvalleylutheran.org
DTSTART:20260422T233000Z
DTEND:20260423T003000Z
CLASS:PUBLIC
CREATED:20260420T002451
DESCRIPTION:Choir rehearal meets with our delightfully talented Director of
  Music Rebecca Rehorst.
LAST-MODIFIED:20260420T002451
LOCATION:Sanctuary
SUMMARY:Choir rehearal
URL;VALUE=URI:https://www.shadesvalleylutheran.org/events/choir-rehearal/20
 26-04-22
ATTACH;FILENAME=choir.jpg;FMTTYPE=image/jpeg:https://dq5pwpg1q8ru0.cloudfro
 nt.net/2022/10/21/18/19/40/54e89ed1-c858-452e-b869-30351d69543f/choir.jpg
END:VEVENT
END:VCALENDAR
